git_url: https://git.bioconductor.org/packages/DIAlignR git_branch: RELEASE_3_13 git_last_commit: fe5d1ad git_last_commit_date: 2021-05-19 12:49:08 -0400 (Wed, 19 May 2021) Package: DIAlignR Version: 2.0.0 Maintainer: Shubham Gupta MaintainerEmail: shubham.1637 at gmail.com