Package: DExMA Version: 1.0.2 Command: C:\cygwin\bin\curl.exe -O http://155.52.207.165/BBS/3.13/bioc/src/contrib/DExMA_1.0.2.tar.gz && rm -rf DExMA.buildbin-libdir && mkdir DExMA.buildbin-libdir && C:\Users\biocbuild\bbs-3.13-bioc\R\bin\R.exe CMD INSTALL --merge-multiarch --build --library=DExMA.buildbin-libdir DExMA_1.0.2.tar.gz && C:\Users\biocbuild\bbs-3.13-bioc\R\bin\R.exe CMD INSTALL DExMA_1.0.2.zip && rm DExMA_1.0.2.tar.gz DExMA_1.0.2.zip StartedAt: 2021-10-14 09:46:59 -0400 (Thu, 14 Oct 2021) EndedAt: 2021-10-14 09:47:47 -0400 (Thu, 14 Oct 2021) EllapsedTime: 47.5 seconds RetCode: 0 Status: OK