Package: DExMA Version: 1.0.2 Command: C:\Users\biocbuild\bbs-3.13-bioc\R\bin\R.exe CMD check --force-multiarch --install=check:DExMA.install-out.txt --library=C:\Users\biocbuild\bbs-3.13-bioc\R\library --no-vignettes --timings DExMA_1.0.2.tar.gz StartedAt: 2021-10-14 22:13:17 -0400 (Thu, 14 Oct 2021) EndedAt: 2021-10-14 22:16:58 -0400 (Thu, 14 Oct 2021) EllapsedTime: 221.3 seconds RetCode: 0 Status: OK CheckDir: DExMA.Rcheck Warnings: 0