Package: DExMA Version: 1.0.2 Command: chmod a+r DExMA -R && C:\Users\biocbuild\bbs-3.13-bioc\R\bin\R.exe CMD build --keep-empty-dirs --no-resave-data DExMA StartedAt: 2021-10-14 13:25:49 -0400 (Thu, 14 Oct 2021) EndedAt: 2021-10-14 13:26:45 -0400 (Thu, 14 Oct 2021) EllapsedTime: 56.0 seconds RetCode: 0 Status: OK PackageFile: DExMA_1.0.2.tar.gz PackageFileSize: 287.2 KiB