Package: DExMA Version: 1.0.2 Command: /home/biocbuild/bbs-3.13-bioc/R/bin/R CMD INSTALL DExMA StartedAt: 2021-10-14 06:19:06 -0400 (Thu, 14 Oct 2021) EndedAt: 2021-10-14 06:19:27 -0400 (Thu, 14 Oct 2021) EllapsedTime: 21.1 seconds RetCode: 0 Status: OK