Package: DExMA Version: 1.0.2 Command: /Library/Frameworks/R.framework/Versions/Current/Resources/bin/R CMD INSTALL DExMA StartedAt: 2021-10-14 09:40:10 -0400 (Thu, 14 Oct 2021) EndedAt: 2021-10-14 09:41:00 -0400 (Thu, 14 Oct 2021) EllapsedTime: 49.5 seconds RetCode: 0 Status: OK