Package: DEsingle Version: 1.12.0 Command: /home/biocbuild/bbs-3.13-bioc/R/bin/R CMD build --keep-empty-dirs --no-resave-data DEsingle StartedAt: 2021-10-14 07:07:07 -0400 (Thu, 14 Oct 2021) EndedAt: 2021-10-14 07:07:17 -0400 (Thu, 14 Oct 2021) EllapsedTime: 10.1 seconds RetCode: 0 Status: OK PackageFile: DEsingle_1.12.0.tar.gz PackageFileSize: 365.1 KiB