Package: DEsingle Version: 1.12.0 Command: /Library/Frameworks/R.framework/Versions/Current/Resources/bin/R CMD build --keep-empty-dirs --no-resave-data DEsingle StartedAt: 2021-10-14 11:41:18 -0400 (Thu, 14 Oct 2021) EndedAt: 2021-10-14 11:41:33 -0400 (Thu, 14 Oct 2021) EllapsedTime: 15.1 seconds RetCode: 0 Status: OK PackageFile: DEsingle_1.12.0.tar.gz PackageFileSize: 365.1 KiB