Package: DEsingle Version: 1.12.0 Command: rm -rf DEsingle.buildbin-libdir && mkdir DEsingle.buildbin-libdir && /Users/biocbuild/BBS/utils/build-universal.sh DEsingle_1.12.0.tar.gz /Library/Frameworks/R.framework/Versions/Current/Resources/bin/R DEsingle.buildbin-libdir StartedAt: 2021-10-15 02:11:16 -0400 (Fri, 15 Oct 2021) EndedAt: 2021-10-15 02:12:26 -0400 (Fri, 15 Oct 2021) EllapsedTime: 70.0 seconds RetCode: 0 Status: OK PackageFile: DEsingle_1.12.0.tgz PackageFileSize: 377.3 KiB