git_url: https://git.bioconductor.org/packages/DEqMS git_branch: RELEASE_3_13 git_last_commit: fde4809 git_last_commit_date: 2021-05-19 12:37:50 -0400 (Wed, 19 May 2021) Package: DEqMS Version: 1.10.0 Maintainer: Yafeng Zhu MaintainerEmail: yafeng.zhu at outlook.com