git_url: https://git.bioconductor.org/packages/DEXSeq git_branch: RELEASE_3_13 git_last_commit: 62dc651 git_last_commit_date: 2021-05-19 11:48:55 -0400 (Wed, 19 May 2021) Package: DEXSeq Version: 1.38.0 Maintainer: Alejandro Reyes MaintainerEmail: alejandro.reyes.ds at gmail.com