Package: DEWSeq Version: 1.6.0 Command: rm -rf DEWSeq.buildbin-libdir && mkdir DEWSeq.buildbin-libdir && C:\Users\biocbuild\bbs-3.13-bioc\R\bin\R.exe CMD INSTALL --merge-multiarch --build --library=DEWSeq.buildbin-libdir DEWSeq_1.6.0.tar.gz StartedAt: 2021-10-15 08:57:43 -0400 (Fri, 15 Oct 2021) EndedAt: 2021-10-15 08:59:18 -0400 (Fri, 15 Oct 2021) EllapsedTime: 94.4 seconds RetCode: 0 Status: OK PackageFile: DEWSeq_1.6.0.zip PackageFileSize: 2.383 MiB