Package: DEGseq Version: 1.46.0 Command: C:\cygwin\bin\curl.exe -O http://155.52.207.165/BBS/3.13/bioc/src/contrib/DEGseq_1.46.0.tar.gz && rm -rf DEGseq.buildbin-libdir && mkdir DEGseq.buildbin-libdir && C:\Users\biocbuild\bbs-3.13-bioc\R\bin\R.exe CMD INSTALL --merge-multiarch --build --library=DEGseq.buildbin-libdir DEGseq_1.46.0.tar.gz && C:\Users\biocbuild\bbs-3.13-bioc\R\bin\R.exe CMD INSTALL DEGseq_1.46.0.zip && rm DEGseq_1.46.0.tar.gz DEGseq_1.46.0.zip StartedAt: 2021-10-14 08:21:30 -0400 (Thu, 14 Oct 2021) EndedAt: 2021-10-14 08:22:22 -0400 (Thu, 14 Oct 2021) EllapsedTime: 52.1 seconds RetCode: 0 Status: OK