Package: DEGseq Version: 1.46.0 Command: chmod a+r DEGseq -R && C:\Users\biocbuild\bbs-3.13-bioc\R\bin\R.exe CMD build --keep-empty-dirs --no-resave-data DEGseq StartedAt: 2021-10-14 13:20:12 -0400 (Thu, 14 Oct 2021) EndedAt: 2021-10-14 13:20:56 -0400 (Thu, 14 Oct 2021) EllapsedTime: 44.7 seconds RetCode: 0 Status: OK PackageFile: DEGseq_1.46.0.tar.gz PackageFileSize: 1.858 MiB