Package: DEGseq Version: 1.46.0 Command: /Library/Frameworks/R.framework/Versions/Current/Resources/bin/R CMD build --keep-empty-dirs --no-resave-data DEGseq StartedAt: 2021-10-14 11:37:35 -0400 (Thu, 14 Oct 2021) EndedAt: 2021-10-14 11:38:15 -0400 (Thu, 14 Oct 2021) EllapsedTime: 39.5 seconds RetCode: 0 Status: OK PackageFile: DEGseq_1.46.0.tar.gz PackageFileSize: 1.847 MiB