git_url: https://git.bioconductor.org/packages/DEGraph git_branch: RELEASE_3_13 git_last_commit: 49e7998 git_last_commit_date: 2021-05-19 11:46:48 -0400 (Wed, 19 May 2021) Package: DEGraph Version: 1.44.0 Maintainer: Laurent Jacob MaintainerEmail: laurent.jacob at gmail.com