git_url: https://git.bioconductor.org/packages/DEFormats git_branch: RELEASE_3_13 git_last_commit: ae1b30e git_last_commit_date: 2021-05-19 12:19:12 -0400 (Wed, 19 May 2021) Package: DEFormats Version: 1.20.0 Maintainer: Andrzej OleÅ› MaintainerEmail: andrzej.oles at embl.de