Package: DECIPHER Version: 2.20.0 Command: /Library/Frameworks/R.framework/Versions/Current/Resources/bin/R CMD build --keep-empty-dirs --no-resave-data DECIPHER StartedAt: 2021-10-14 11:35:56 -0400 (Thu, 14 Oct 2021) EndedAt: 2021-10-14 11:43:08 -0400 (Thu, 14 Oct 2021) EllapsedTime: 431.9 seconds RetCode: 0 Status: OK PackageFile: DECIPHER_2.20.0.tar.gz PackageFileSize: 15.82 MiB