Package: DART Version: 1.40.0 Command: chmod a+r DART -R && C:\Users\biocbuild\bbs-3.13-bioc\R\bin\R.exe CMD build --keep-empty-dirs --no-resave-data DART StartedAt: 2021-10-14 13:14:26 -0400 (Thu, 14 Oct 2021) EndedAt: 2021-10-14 13:15:10 -0400 (Thu, 14 Oct 2021) EllapsedTime: 44.2 seconds RetCode: 0 Status: OK PackageFile: DART_1.40.0.tar.gz PackageFileSize: 2.033 MiB