Package: DART Version: 1.40.0 Command: /Library/Frameworks/R.framework/Versions/Current/Resources/bin/R CMD build --keep-empty-dirs --no-resave-data DART StartedAt: 2021-10-14 11:34:19 -0400 (Thu, 14 Oct 2021) EndedAt: 2021-10-14 11:34:48 -0400 (Thu, 14 Oct 2021) EllapsedTime: 29.1 seconds RetCode: 0 Status: OK PackageFile: DART_1.40.0.tar.gz PackageFileSize: 2.028 MiB