Package: CoverageView Version: 1.30.0 Command: /home/biocbuild/bbs-3.13-bioc/R/bin/R CMD build --keep-empty-dirs --no-resave-data CoverageView StartedAt: 2021-10-14 07:02:48 -0400 (Thu, 14 Oct 2021) EndedAt: 2021-10-14 07:03:31 -0400 (Thu, 14 Oct 2021) EllapsedTime: 43.1 seconds RetCode: 0 Status: OK PackageFile: CoverageView_1.30.0.tar.gz PackageFileSize: 2.458 MiB