git_url: https://git.bioconductor.org/packages/CoverageView git_branch: RELEASE_3_13 git_last_commit: f760e2e git_last_commit_date: 2021-05-19 12:04:24 -0400 (Wed, 19 May 2021) Package: CoverageView Version: 1.30.0 Maintainer: Ernesto Lowy MaintainerEmail: ernestolowy at gmail.com