Package: CountClust Version: 1.20.0 Command: /Library/Frameworks/R.framework/Versions/Current/Resources/bin/R CMD build --keep-empty-dirs --no-resave-data CountClust StartedAt: 2021-10-14 11:28:42 -0400 (Thu, 14 Oct 2021) EndedAt: 2021-10-14 11:29:24 -0400 (Thu, 14 Oct 2021) EllapsedTime: 42.4 seconds RetCode: 1 Status: ERROR PackageFile: None PackageFileSize: NA