Package: ComPrAn Version: 1.0.0 Command: chmod a+r ComPrAn -R && C:\Users\biocbuild\bbs-3.13-bioc\R\bin\R.exe CMD build --keep-empty-dirs --no-resave-data ComPrAn StartedAt: 2021-10-14 13:00:51 -0400 (Thu, 14 Oct 2021) EndedAt: 2021-10-14 13:01:25 -0400 (Thu, 14 Oct 2021) EllapsedTime: 34.0 seconds RetCode: 0 Status: OK PackageFile: ComPrAn_1.0.0.tar.gz PackageFileSize: 3.052 MiB