Package: CoRegFlux Version: 1.8.0 Command: chmod a+r CoRegFlux -R && C:\Users\biocbuild\bbs-3.13-bioc\R\bin\R.exe CMD build --keep-empty-dirs --no-resave-data CoRegFlux StartedAt: 2021-10-14 13:04:19 -0400 (Thu, 14 Oct 2021) EndedAt: 2021-10-14 13:05:59 -0400 (Thu, 14 Oct 2021) EllapsedTime: 99.8 seconds RetCode: 0 Status: OK PackageFile: CoRegFlux_1.8.0.tar.gz PackageFileSize: 4.717 MiB