Package: CoRegFlux Version: 1.8.0 Command: rm -rf CoRegFlux.buildbin-libdir && mkdir CoRegFlux.buildbin-libdir && C:\Users\biocbuild\bbs-3.13-bioc\R\bin\R.exe CMD INSTALL --merge-multiarch --build --library=CoRegFlux.buildbin-libdir CoRegFlux_1.8.0.tar.gz StartedAt: 2021-10-15 08:44:47 -0400 (Fri, 15 Oct 2021) EndedAt: 2021-10-15 08:46:00 -0400 (Fri, 15 Oct 2021) EllapsedTime: 73.1 seconds RetCode: 0 Status: OK PackageFile: CoRegFlux_1.8.0.zip PackageFileSize: 4.661 MiB