Package: CoRegFlux Version: 1.8.0 Command: /Library/Frameworks/R.framework/Versions/Current/Resources/bin/R CMD INSTALL CoRegFlux StartedAt: 2021-10-14 08:49:32 -0400 (Thu, 14 Oct 2021) EndedAt: 2021-10-14 08:50:22 -0400 (Thu, 14 Oct 2021) EllapsedTime: 49.5 seconds RetCode: 0 Status: OK