Package: CoCiteStats Version: 1.64.0 Command: /home/biocbuild/bbs-3.13-bioc/R/bin/R CMD INSTALL CoCiteStats StartedAt: 2021-10-14 06:09:02 -0400 (Thu, 14 Oct 2021) EndedAt: 2021-10-14 06:09:15 -0400 (Thu, 14 Oct 2021) EllapsedTime: 12.5 seconds RetCode: 0 Status: OK