git_url: https://git.bioconductor.org/packages/ClusterJudge git_branch: RELEASE_3_13 git_last_commit: 450a0c8 git_last_commit_date: 2021-05-19 12:28:45 -0400 (Wed, 19 May 2021) Package: ClusterJudge Version: 1.14.0 Maintainer: Adrian Pasculescu MaintainerEmail: a.pasculescu at gmail.com