Package: CluMSID Version: 1.8.0 Command: C:\Users\biocbuild\bbs-3.13-bioc\R\bin\R.exe CMD check --force-multiarch --install=check:CluMSID.install-out.txt --library=C:\Users\biocbuild\bbs-3.13-bioc\R\library --no-vignettes --timings CluMSID_1.8.0.tar.gz StartedAt: 2021-10-14 21:11:53 -0400 (Thu, 14 Oct 2021) EndedAt: 2021-10-14 21:16:19 -0400 (Thu, 14 Oct 2021) EllapsedTime: 265.6 seconds RetCode: 0 Status: OK CheckDir: CluMSID.Rcheck Warnings: 0