Package: CluMSID Version: 1.8.0 Command: chmod a+r CluMSID -R && C:\Users\biocbuild\bbs-3.13-bioc\R\bin\R.exe CMD build --keep-empty-dirs --no-resave-data CluMSID StartedAt: 2021-10-14 12:51:55 -0400 (Thu, 14 Oct 2021) EndedAt: 2021-10-14 12:59:41 -0400 (Thu, 14 Oct 2021) EllapsedTime: 466.6 seconds RetCode: 0 Status: OK PackageFile: CluMSID_1.8.0.tar.gz PackageFileSize: 2.671 MiB