Package: CluMSID Version: 1.8.0 Command: /Library/Frameworks/R.framework/Versions/Current/Resources/bin/R CMD INSTALL CluMSID StartedAt: 2021-10-14 09:37:19 -0400 (Thu, 14 Oct 2021) EndedAt: 2021-10-14 09:38:04 -0400 (Thu, 14 Oct 2021) EllapsedTime: 45.0 seconds RetCode: 0 Status: OK