Package: CluMSID Version: 1.8.0 Command: /Library/Frameworks/R.framework/Versions/Current/Resources/bin/R CMD check --install=check:CluMSID.install-out.txt --library=/Library/Frameworks/R.framework/Versions/Current/Resources/library --no-vignettes --timings CluMSID_1.8.0.tar.gz StartedAt: 2021-10-14 17:31:23 -0400 (Thu, 14 Oct 2021) EndedAt: 2021-10-14 17:34:46 -0400 (Thu, 14 Oct 2021) EllapsedTime: 202.7 seconds RetCode: 0 Status: OK CheckDir: CluMSID.Rcheck Warnings: 0