Package: CluMSID Version: 1.8.0 Command: /Library/Frameworks/R.framework/Versions/Current/Resources/bin/R CMD build --keep-empty-dirs --no-resave-data CluMSID StartedAt: 2021-10-14 11:17:49 -0400 (Thu, 14 Oct 2021) EndedAt: 2021-10-14 11:25:09 -0400 (Thu, 14 Oct 2021) EllapsedTime: 440.3 seconds RetCode: 0 Status: OK PackageFile: CluMSID_1.8.0.tar.gz PackageFileSize: 3.997 MiB