Package: CluMSID Version: 1.8.0 Command: rm -rf CluMSID.buildbin-libdir && mkdir CluMSID.buildbin-libdir && /Users/biocbuild/BBS/utils/build-universal.sh CluMSID_1.8.0.tar.gz /Library/Frameworks/R.framework/Versions/Current/Resources/bin/R CluMSID.buildbin-libdir StartedAt: 2021-10-15 01:57:41 -0400 (Fri, 15 Oct 2021) EndedAt: 2021-10-15 01:58:45 -0400 (Fri, 15 Oct 2021) EllapsedTime: 64.1 seconds RetCode: 0 Status: OK PackageFile: CluMSID_1.8.0.tgz PackageFileSize: 4.443 MiB