git_url: https://git.bioconductor.org/packages/Clonality git_branch: RELEASE_3_13 git_last_commit: a298581 git_last_commit_date: 2021-05-19 11:47:04 -0400 (Wed, 19 May 2021) Package: Clonality Version: 1.40.0 Maintainer: Irina Ostrovnaya MaintainerEmail: ostrovni at mskcc.org