Package: ChromHeatMap Version: 1.46.0 Command: /home/biocbuild/bbs-3.13-bioc/R/bin/R CMD check --install=check:ChromHeatMap.install-out.txt --library=/home/biocbuild/bbs-3.13-bioc/R/library --no-vignettes --timings ChromHeatMap_1.46.0.tar.gz StartedAt: 2021-10-14 09:14:47 -0400 (Thu, 14 Oct 2021) EndedAt: 2021-10-14 09:18:02 -0400 (Thu, 14 Oct 2021) EllapsedTime: 194.9 seconds RetCode: 0 Status: OK CheckDir: ChromHeatMap.Rcheck Warnings: 0