Package: Chicago Version: 1.20.0 Command: rm -rf Chicago.buildbin-libdir && mkdir Chicago.buildbin-libdir && C:\Users\biocbuild\bbs-3.13-bioc\R\bin\R.exe CMD INSTALL --merge-multiarch --build --library=Chicago.buildbin-libdir Chicago_1.20.0.tar.gz StartedAt: 2021-10-15 08:31:05 -0400 (Fri, 15 Oct 2021) EndedAt: 2021-10-15 08:32:39 -0400 (Fri, 15 Oct 2021) EllapsedTime: 94.0 seconds RetCode: 0 Status: OK PackageFile: Chicago_1.20.0.zip PackageFileSize: 1.045 MiB