Package: ChemmineR Version: 3.44.0 Command: C:\cygwin\bin\curl.exe -O http://155.52.207.165/BBS/3.13/bioc/src/contrib/ChemmineR_3.44.0.tar.gz && rm -rf ChemmineR.buildbin-libdir && mkdir ChemmineR.buildbin-libdir && C:\Users\biocbuild\bbs-3.13-bioc\R\bin\R.exe CMD INSTALL --merge-multiarch --build --library=ChemmineR.buildbin-libdir ChemmineR_3.44.0.tar.gz && C:\Users\biocbuild\bbs-3.13-bioc\R\bin\R.exe CMD INSTALL ChemmineR_3.44.0.zip && rm ChemmineR_3.44.0.tar.gz ChemmineR_3.44.0.zip StartedAt: 2021-10-14 08:25:36 -0400 (Thu, 14 Oct 2021) EndedAt: 2021-10-14 08:27:09 -0400 (Thu, 14 Oct 2021) EllapsedTime: 93.3 seconds RetCode: 0 Status: OK