Package: ChemmineR Version: 3.44.0 Command: rm -rf ChemmineR.buildbin-libdir && mkdir ChemmineR.buildbin-libdir && C:\Users\biocbuild\bbs-3.13-bioc\R\bin\R.exe CMD INSTALL --merge-multiarch --build --library=ChemmineR.buildbin-libdir ChemmineR_3.44.0.tar.gz StartedAt: 2021-10-15 08:30:57 -0400 (Fri, 15 Oct 2021) EndedAt: 2021-10-15 08:32:22 -0400 (Fri, 15 Oct 2021) EllapsedTime: 84.6 seconds RetCode: 0 Status: OK PackageFile: ChemmineR_3.44.0.zip PackageFileSize: 2.679 MiB