Package: ChemmineR
Version: 3.44.0
Command: /Library/Frameworks/R.framework/Versions/Current/Resources/bin/R CMD build --keep-empty-dirs --no-resave-data ChemmineR
StartedAt: 2021-10-14 11:10:10 -0400 (Thu, 14 Oct 2021)
EndedAt: 2021-10-14 11:11:18 -0400 (Thu, 14 Oct 2021)
EllapsedTime: 68.1 seconds
RetCode: 0
Status: OK
PackageFile: ChemmineR_3.44.0.tar.gz
PackageFileSize: 1.946 <A href="http://en.wikipedia.org/wiki/MiB" target="_blank">MiB</A>