git_url: https://git.bioconductor.org/packages/ChemmineOB git_branch: RELEASE_3_13 git_last_commit: 792d07a git_last_commit_date: 2021-05-19 12:00:20 -0400 (Wed, 19 May 2021) Package: ChemmineOB Version: 1.30.0 Maintainer: Thomas Girke MaintainerEmail: thomas.girke at ucr.edu