Package: ChIPsim Version: 1.46.0 Command: /home/biocbuild/bbs-3.13-bioc/R/bin/R CMD INSTALL ChIPsim StartedAt: 2021-10-14 06:13:30 -0400 (Thu, 14 Oct 2021) EndedAt: 2021-10-14 06:13:55 -0400 (Thu, 14 Oct 2021) EllapsedTime: 25.0 seconds RetCode: 0 Status: OK