Package: ChIPsim Version: 1.46.0 Command: /Library/Frameworks/R.framework/Versions/Current/Resources/bin/R CMD INSTALL ChIPsim StartedAt: 2021-10-14 09:08:33 -0400 (Thu, 14 Oct 2021) EndedAt: 2021-10-14 09:09:16 -0400 (Thu, 14 Oct 2021) EllapsedTime: 43.8 seconds RetCode: 0 Status: OK