Package: ChIPseqR Version: 1.46.0 Command: rm -rf ChIPseqR.buildbin-libdir && mkdir ChIPseqR.buildbin-libdir && C:\Users\biocbuild\bbs-3.13-bioc\R\bin\R.exe CMD INSTALL --merge-multiarch --build --library=ChIPseqR.buildbin-libdir ChIPseqR_1.46.0.tar.gz StartedAt: 2021-10-15 08:32:39 -0400 (Fri, 15 Oct 2021) EndedAt: 2021-10-15 08:33:47 -0400 (Fri, 15 Oct 2021) EllapsedTime: 67.8 seconds RetCode: 0 Status: OK PackageFile: ChIPseqR_1.46.0.zip PackageFileSize: 1.453 MiB