Package: ChIPseqR Version: 1.46.0 Command: rm -rf ChIPseqR.buildbin-libdir && mkdir ChIPseqR.buildbin-libdir && /Users/biocbuild/BBS/utils/build-universal.sh ChIPseqR_1.46.0.tar.gz /Library/Frameworks/R.framework/Versions/Current/Resources/bin/R ChIPseqR.buildbin-libdir StartedAt: 2021-10-15 01:55:16 -0400 (Fri, 15 Oct 2021) EndedAt: 2021-10-15 01:56:14 -0400 (Fri, 15 Oct 2021) EllapsedTime: 58.6 seconds RetCode: 0 Status: OK PackageFile: ChIPseqR_1.46.0.tgz PackageFileSize: 1.38 MiB