Package: ChIPanalyser Version: 1.14.0 Command: C:\Users\biocbuild\bbs-3.13-bioc\R\bin\R.exe CMD check --force-multiarch --install=check:ChIPanalyser.install-out.txt --library=C:\Users\biocbuild\bbs-3.13-bioc\R\library --no-vignettes --timings ChIPanalyser_1.14.0.tar.gz StartedAt: 2021-10-14 20:58:19 -0400 (Thu, 14 Oct 2021) EndedAt: 2021-10-14 21:03:57 -0400 (Thu, 14 Oct 2021) EllapsedTime: 338.6 seconds RetCode: 0 Status: OK CheckDir: ChIPanalyser.Rcheck Warnings: 0