Package: ChIPanalyser Version: 1.14.0 Command: chmod a+r ChIPanalyser -R && C:\Users\biocbuild\bbs-3.13-bioc\R\bin\R.exe CMD build --keep-empty-dirs --no-resave-data ChIPanalyser StartedAt: 2021-10-14 12:42:46 -0400 (Thu, 14 Oct 2021) EndedAt: 2021-10-14 12:48:54 -0400 (Thu, 14 Oct 2021) EllapsedTime: 368.7 seconds RetCode: 0 Status: OK PackageFile: ChIPanalyser_1.14.0.tar.gz PackageFileSize: 560.7 KiB