Package: ChIPSeqSpike Version: 1.12.0 Command: /home/biocbuild/bbs-3.13-bioc/R/bin/R CMD build --keep-empty-dirs --no-resave-data ChIPSeqSpike StartedAt: 2021-10-14 06:55:58 -0400 (Thu, 14 Oct 2021) EndedAt: 2021-10-14 06:57:05 -0400 (Thu, 14 Oct 2021) EllapsedTime: 67.6 seconds RetCode: 1 Status: ERROR PackageFile: None PackageFileSize: NA