Package: ChIPSeqSpike Version: 1.12.0 Command: /Library/Frameworks/R.framework/Versions/Current/Resources/bin/R CMD build --keep-empty-dirs --no-resave-data ChIPSeqSpike StartedAt: 2021-10-14 11:12:37 -0400 (Thu, 14 Oct 2021) EndedAt: 2021-10-14 11:14:05 -0400 (Thu, 14 Oct 2021) EllapsedTime: 88.3 seconds RetCode: 1 Status: ERROR PackageFile: None PackageFileSize: NA